BEGIN:VCALENDAR
PRODID:-//eluceo/ical//2.0/EN
VERSION:2.0
CALSCALE:GREGORIAN
BEGIN:VEVENT
UID:hey.bayern.629263.6553948
DTSTAMP:20260422T004130Z
SUMMARY:Yoga für Groß & Klein mit Julia & Isabell
DTSTART;TZID=Europe/Berlin:20260706T060000
DTEND;TZID=Europe/Berlin:20260707T060000
LOCATION:9201 Krumpendorf am Wörthersee\, Österreich
GEO:46.623186;14.222087
X-APPLE-STRUCTURED-LOCATION;VALUE=URI;X-ADDRESS=9201 Krumpendorf am Wörthe
 rsee\, Österreich;X-APPLE-RADIUS=49;X-TITLE=:geo:46.623186,14.222087
URL;VALUE=URI:https://draft.hey.bayern/events/629263
END:VEVENT
END:VCALENDAR
