BEGIN:VCALENDAR
PRODID:-//eluceo/ical//2.0/EN
VERSION:2.0
CALSCALE:GREGORIAN
BEGIN:VEVENT
UID:hey.bayern.629186.5990680
DTSTAMP:20260421T135652Z
SUMMARY:Ensemble Vokal „Life could be a dream“
DTSTART;TZID=Europe/Berlin:20260517T000000
DTEND;TZID=Europe/Berlin:20260518T000000
URL;VALUE=URI:https://draft.hey.bayern/events/629186
END:VEVENT
END:VCALENDAR
