BEGIN:VCALENDAR
PRODID:-//eluceo/ical//2.0/EN
VERSION:2.0
CALSCALE:GREGORIAN
BEGIN:VEVENT
UID:hey.bayern.618418.5792183
DTSTAMP:20260423T015801Z
SUMMARY:Mondsüchtig
DTSTART;TZID=Europe/Berlin:20260515T193000
DTEND;TZID=Europe/Berlin:20260515T235959
LOCATION:Aigner Straße 54\, 5026 Salzburg\, Österreich
GEO:47.789358;13.076447
X-APPLE-STRUCTURED-LOCATION;VALUE=URI;X-ADDRESS=Aigner Straße 54\, 5026 Sa
 lzburg\, Österreich;X-APPLE-RADIUS=49;X-TITLE=:geo:47.789358,13.076447
URL;VALUE=URI:https://draft.hey.bayern/events/618418
END:VEVENT
END:VCALENDAR
