BEGIN:VCALENDAR
PRODID:-//eluceo/ical//2.0/EN
VERSION:2.0
CALSCALE:GREGORIAN
BEGIN:VEVENT
UID:hey.bayern.601101.6550091
DTSTAMP:20260421T052316Z
SUMMARY:Barockbaumeister Museum Au | Führung
DTSTART;TZID=Europe/Berlin:20260731T153000
DTEND;TZID=Europe/Berlin:20260731T163000
LOCATION:Rehmen 39\, 6883 Au\, Österreich
GEO:47.322323;9.997135
X-APPLE-STRUCTURED-LOCATION;VALUE=URI;X-ADDRESS=Rehmen 39\, 6883 Au\, Öste
 rreich;X-APPLE-RADIUS=49;X-TITLE=:geo:47.322323,9.997135
URL;VALUE=URI:https://draft.hey.bayern/events/601101
END:VEVENT
END:VCALENDAR
