BEGIN:VCALENDAR
PRODID:-//eluceo/ical//2.0/EN
VERSION:2.0
CALSCALE:GREGORIAN
BEGIN:VEVENT
UID:hey.bayern.592677.6553963
DTSTAMP:20260422T010420Z
SUMMARY:"Yoga am See" in Seeboden mit Doro
DTSTART;TZID=Europe/Berlin:20260828T083000
DTEND;TZID=Europe/Berlin:20260829T083000
LOCATION:Klingerpark\, 9871 Seeboden am Millstättersee\, Österreich
GEO:46.814658;13.512116
X-APPLE-STRUCTURED-LOCATION;VALUE=URI;X-ADDRESS=Klingerpark\, 9871 Seeboden
  am Millstättersee\, Österreich;X-APPLE-RADIUS=49;X-TITLE=:geo:46.814658
 ,13.512116
URL;VALUE=URI:https://draft.hey.bayern/events/592677
END:VEVENT
END:VCALENDAR
