BEGIN:VCALENDAR
PRODID:-//eluceo/ical//2.0/EN
VERSION:2.0
CALSCALE:GREGORIAN
BEGIN:VEVENT
UID:hey.bayern.579192.6491744
DTSTAMP:20260425T010955Z
SUMMARY:Dr. Bohl - Solo
DTSTART;TZID=Europe/Berlin:20260529T193000
DTEND;TZID=Europe/Berlin:20260529T235959
LOCATION:Münzgrabenstraße 36\, 8010 Graz\, Österreich
GEO:47.063717;15.450087
X-APPLE-STRUCTURED-LOCATION;VALUE=URI;X-ADDRESS=Münzgrabenstraße 36\, 801
 0 Graz\, Österreich;X-APPLE-RADIUS=49;X-TITLE=:geo:47.063717,15.450087
URL;VALUE=URI:https://draft.hey.bayern/events/579192
END:VEVENT
END:VCALENDAR
