BEGIN:VCALENDAR
PRODID:-//eluceo/ical//2.0/EN
VERSION:2.0
CALSCALE:GREGORIAN
BEGIN:VEVENT
UID:hey.bayern.575040.5311013
DTSTAMP:20260423T015759Z
SUMMARY:Tutty Tran: Wok-Life-Balance
DTSTART;TZID=Europe/Berlin:20260514T200000
DTEND;TZID=Europe/Berlin:20260514T235959
LOCATION:Anton-Neumayr-Platz 2\, 5020 Salzburg\, Österreich
GEO:47.801423;13.039636
X-APPLE-STRUCTURED-LOCATION;VALUE=URI;X-ADDRESS=Anton-Neumayr-Platz 2\, 502
 0 Salzburg\, Österreich;X-APPLE-RADIUS=49;X-TITLE=:geo:47.801423,13.03963
 6
URL;VALUE=URI:https://draft.hey.bayern/events/575040
END:VEVENT
END:VCALENDAR
