BEGIN:VCALENDAR
PRODID:-//eluceo/ical//2.0/EN
VERSION:2.0
CALSCALE:GREGORIAN
BEGIN:VEVENT
UID:hey.bayern.574622.6556391
DTSTAMP:20260423T013106Z
SUMMARY:Geführte Wanderung: Durchatmen\, Entdecken & Genießen in Kaprun
DTSTART;TZID=Europe/Berlin:20260706T093000
DTEND;TZID=Europe/Berlin:20260706T133000
LOCATION:Kirchplatz 11\, 5710 Kaprun\, Österreich
GEO:47.272363;12.756972
X-APPLE-STRUCTURED-LOCATION;VALUE=URI;X-ADDRESS=Kirchplatz 11\, 5710 Kaprun
 \, Österreich;X-APPLE-RADIUS=49;X-TITLE=:geo:47.272363,12.756972
URL;VALUE=URI:https://draft.hey.bayern/events/574622
END:VEVENT
END:VCALENDAR
