BEGIN:VCALENDAR
PRODID:-//eluceo/ical//2.0/EN
VERSION:2.0
CALSCALE:GREGORIAN
BEGIN:VEVENT
UID:hey.bayern.558496.6547651
DTSTAMP:20260419T160508Z
SUMMARY:Salzburger Volksliedchor - Konzert
DTSTART;TZID=Europe/Berlin:20260516T190000
DTEND;TZID=Europe/Berlin:20260516T235959
LOCATION:Jakob-Lechner-Weg 2 - 4\, 5071 Wals\, Österreich
URL;VALUE=URI:https://draft.hey.bayern/events/558496
END:VEVENT
END:VCALENDAR
