BEGIN:VCALENDAR
PRODID:-//eluceo/ical//2.0/EN
VERSION:2.0
CALSCALE:GREGORIAN
BEGIN:VEVENT
UID:hey.bayern.522524.6556491
DTSTAMP:20260424T232714Z
SUMMARY:Handwerker-Advent im BioArt Campus
DTSTART;TZID=Europe/Berlin:20270702T090000
DTEND;TZID=Europe/Berlin:20270702T235959
LOCATION:Biodorf-Weg 4\, 5164 Seeham\, Österreich
URL;VALUE=URI:https://draft.hey.bayern/events/522524
END:VEVENT
END:VCALENDAR
