BEGIN:VCALENDAR
PRODID:-//eluceo/ical//2.0/EN
VERSION:2.0
CALSCALE:GREGORIAN
BEGIN:VEVENT
UID:hey.bayern.491472.6555790
DTSTAMP:20260422T010420Z
SUMMARY:Schwimmen statt Baden
DTSTART;TZID=Europe/Berlin:20260726T083000
DTEND;TZID=Europe/Berlin:20260727T083000
LOCATION:Metnitzstrand 2\, 9020 Klagenfurt am Wörthersee\, Österreich
URL;VALUE=URI:https://draft.hey.bayern/events/491472
END:VEVENT
END:VCALENDAR
