BEGIN:VCALENDAR
PRODID:-//eluceo/ical//2.0/EN
VERSION:2.0
CALSCALE:GREGORIAN
BEGIN:VEVENT
UID:hey.bayern.489859.6552098
DTSTAMP:20260421T170032Z
SUMMARY:Musik Rausch
DTSTART;TZID=Europe/Berlin:20260613T130000
DTEND;TZID=Europe/Berlin:20260613T235959
LOCATION:Obersdorf 7\, 8983 Bad Mitterndorf\, Österreich
GEO:47.569165;13.892264
X-APPLE-STRUCTURED-LOCATION;VALUE=URI;X-ADDRESS=Obersdorf 7\, 8983 Bad Mitt
 erndorf\, Österreich;X-APPLE-RADIUS=49;X-TITLE=:geo:47.569165,13.892264
URL;VALUE=URI:https://draft.hey.bayern/events/489859
END:VEVENT
END:VCALENDAR
