BEGIN:VCALENDAR
PRODID:-//eluceo/ical//2.0/EN
VERSION:2.0
CALSCALE:GREGORIAN
BEGIN:VEVENT
UID:hey.bayern.487881.6554692
DTSTAMP:20260422T010514Z
SUMMARY:Freiluftkino im Strandbad
DTSTART;TZID=Europe/Berlin:20260801T200000
DTEND;TZID=Europe/Berlin:20260802T200000
LOCATION:Metnitzstrand 2\, 9020 Klagenfurt am Wörthersee\, Österreich
URL;VALUE=URI:https://draft.hey.bayern/events/487881
END:VEVENT
END:VCALENDAR
