BEGIN:VCALENDAR
PRODID:-//eluceo/ical//2.0/EN
VERSION:2.0
CALSCALE:GREGORIAN
BEGIN:VEVENT
UID:hey.bayern.487875.6554248
DTSTAMP:20260422T010421Z
SUMMARY:100 Jahre Strandbad Klagenfurt
DTSTART;TZID=Europe/Berlin:20260704T100000
DTEND;TZID=Europe/Berlin:20260705T100000
LOCATION:Metnitzstrand 2\, 9020 Klagenfurt am Wörthersee\, Österreich
URL;VALUE=URI:https://draft.hey.bayern/events/487875
END:VEVENT
END:VCALENDAR
