BEGIN:VCALENDAR
PRODID:-//eluceo/ical//2.0/EN
VERSION:2.0
CALSCALE:GREGORIAN
BEGIN:VEVENT
UID:hey.bayern.481339.6554233
DTSTAMP:20260422T005824Z
SUMMARY:Eruptionsfest in St. Anna/Aigen
DTSTART;TZID=Europe/Berlin:20260822T130000
DTEND;TZID=Europe/Berlin:20260822T235959
LOCATION:Plesch 26\, 8354 St. Anna am Aigen\, Österreich
URL;VALUE=URI:https://draft.hey.bayern/events/481339
END:VEVENT
END:VCALENDAR
