BEGIN:VCALENDAR
PRODID:-//eluceo/ical//2.0/EN
VERSION:2.0
CALSCALE:GREGORIAN
BEGIN:VEVENT
UID:hey.bayern.469766.6557172
DTSTAMP:20260424T132626Z
SUMMARY:Abo Konzerte mit dem Josef Haydn-Orchester
DTSTART;TZID=Europe/Berlin:20260505T190000
DTEND;TZID=Europe/Berlin:20260505T235959
LOCATION:Stadtpark 1\, 8600 Bruck/Mur\, Österreich
URL;VALUE=URI:https://draft.hey.bayern/events/469766
END:VEVENT
END:VCALENDAR
