BEGIN:VCALENDAR
PRODID:-//eluceo/ical//2.0/EN
VERSION:2.0
CALSCALE:GREGORIAN
BEGIN:VEVENT
UID:hey.bayern.455622.6556889
DTSTAMP:20260423T143935Z
SUMMARY:Offene Tour in der KTM Motohall
DTSTART;TZID=Europe/Berlin:20260614T130000
DTEND;TZID=Europe/Berlin:20260614T143000
LOCATION:KTM Platz 1\, 5230 Mattighofen\, Österreich
GEO:48.102445;13.151718
X-APPLE-STRUCTURED-LOCATION;VALUE=URI;X-ADDRESS=KTM Platz 1\, 5230 Mattigho
 fen\, Österreich;X-APPLE-RADIUS=49;X-TITLE=:geo:48.102445,13.151718
URL;VALUE=URI:https://draft.hey.bayern/events/455622
END:VEVENT
END:VCALENDAR
