BEGIN:VCALENDAR
PRODID:-//eluceo/ical//2.0/EN
VERSION:2.0
CALSCALE:GREGORIAN
BEGIN:VEVENT
UID:hey.bayern.438416.6557313
DTSTAMP:20260425T010934Z
SUMMARY:Auftanzt zur Langen Nacht des Tanzes
DTSTART;TZID=Europe/Berlin:20261017T190000
DTEND;TZID=Europe/Berlin:20261017T235959
LOCATION:Am Lindenplatz 12\, 5324 Faistenau\, Österreich
GEO:47.778301;13.234820
X-APPLE-STRUCTURED-LOCATION;VALUE=URI;X-ADDRESS=Am Lindenplatz 12\, 5324 Fa
 istenau\, Österreich;X-APPLE-RADIUS=49;X-TITLE=:geo:47.778301,13.234820
URL;VALUE=URI:https://draft.hey.bayern/events/438416
END:VEVENT
END:VCALENDAR
