BEGIN:VCALENDAR
PRODID:-//eluceo/ical//2.0/EN
VERSION:2.0
CALSCALE:GREGORIAN
BEGIN:VEVENT
UID:hey.bayern.398778.2618982
DTSTAMP:20260419T172234Z
SUMMARY:Historischer Spaziergang durch Bad Gastein
DTSTART;TZID=Europe/Berlin:20261104T153000
DTEND;TZID=Europe/Berlin:20261104T173000
LOCATION:Kaiser-Franz-Josef-Straße 14\, 5640 Bad Gastein\, Österreich
GEO:47.115207;13.134043
X-APPLE-STRUCTURED-LOCATION;VALUE=URI;X-ADDRESS=Kaiser-Franz-Josef-Straße 
 14\, 5640 Bad Gastein\, Österreich;X-APPLE-RADIUS=49;X-TITLE=:geo:47.1152
 07,13.134043
URL;VALUE=URI:https://draft.hey.bayern/events/398778
END:VEVENT
END:VCALENDAR
