BEGIN:VCALENDAR
PRODID:-//eluceo/ical//2.0/EN
VERSION:2.0
CALSCALE:GREGORIAN
BEGIN:VEVENT
UID:hey.bayern.371537.6554390
DTSTAMP:20260423T013105Z
SUMMARY:Geführte E-Bike & Hike-Tour zur Bichlalm - Remsteinkopf
DTSTART;TZID=Europe/Berlin:20260803T100000
DTEND;TZID=Europe/Berlin:20260803T140000
LOCATION:Unterbergstraße 55\, 5611 Großarl\, Österreich
GEO:47.243077;13.195929
X-APPLE-STRUCTURED-LOCATION;VALUE=URI;X-ADDRESS=Unterbergstraße 55\, 5611 
 Großarl\, Österreich;X-APPLE-RADIUS=49;X-TITLE=:geo:47.243077,13.195929
URL;VALUE=URI:https://draft.hey.bayern/events/371537
END:VEVENT
END:VCALENDAR
