BEGIN:VCALENDAR
PRODID:-//eluceo/ical//2.0/EN
VERSION:2.0
CALSCALE:GREGORIAN
BEGIN:VEVENT
UID:hey.bayern.367221.6552369
DTSTAMP:20260421T183123Z
SUMMARY:Salza Rodeo 2023
DTSTART;TZID=Europe/Berlin:20260502T100000
DTEND;TZID=Europe/Berlin:20260502T235959
LOCATION:Säusenbach 8\, 8924 Wildalpen\, Österreich
GEO:47.660547;14.988879
X-APPLE-STRUCTURED-LOCATION;VALUE=URI;X-ADDRESS=Säusenbach 8\, 8924 Wildal
 pen\, Österreich;X-APPLE-RADIUS=49;X-TITLE=:geo:47.660547,14.988879
URL;VALUE=URI:https://draft.hey.bayern/events/367221
END:VEVENT
END:VCALENDAR
