BEGIN:VCALENDAR
PRODID:-//eluceo/ical//2.0/EN
VERSION:2.0
CALSCALE:GREGORIAN
BEGIN:VEVENT
UID:hey.bayern.364101.6553667
DTSTAMP:20260421T202023Z
SUMMARY:Ball der Lebenshilfe
DTSTART;TZID=Europe/Berlin:20260513T190000
DTEND;TZID=Europe/Berlin:20260513T235900
LOCATION:Schlosshof 8\, 5310 Mondsee am Mondsee\, Österreich
GEO:47.856318;13.350559
X-APPLE-STRUCTURED-LOCATION;VALUE=URI;X-ADDRESS=Schlosshof 8\, 5310 Mondsee
  am Mondsee\, Österreich;X-APPLE-RADIUS=49;X-TITLE=:geo:47.856318,13.3505
 59
URL;VALUE=URI:https://draft.hey.bayern/events/364101
END:VEVENT
END:VCALENDAR
