BEGIN:VCALENDAR
PRODID:-//eluceo/ical//2.0/EN
VERSION:2.0
CALSCALE:GREGORIAN
BEGIN:VEVENT
UID:hey.bayern.341548.6557044
DTSTAMP:20260424T232715Z
SUMMARY:Wildromantische Sagenwanderung
DTSTART;TZID=Europe/Berlin:20270525T093000
DTEND;TZID=Europe/Berlin:20270525T113000
LOCATION:Ab Parkplatz Teufelsgraben Seeham\, 5164 Seeham\, Österreich
GEO:47.958692;13.066564
X-APPLE-STRUCTURED-LOCATION;VALUE=URI;X-ADDRESS=Ab Parkplatz Teufelsgraben 
 Seeham\, 5164 Seeham\, Österreich;X-APPLE-RADIUS=49;X-TITLE=:geo:47.95869
 2,13.066564
URL;VALUE=URI:https://draft.hey.bayern/events/341548
END:VEVENT
END:VCALENDAR
