BEGIN:VCALENDAR
PRODID:-//eluceo/ical//2.0/EN
VERSION:2.0
CALSCALE:GREGORIAN
BEGIN:VEVENT
UID:hey.bayern.339827.6556919
DTSTAMP:20260424T043420Z
SUMMARY:Seekonzert Seeham
DTSTART;TZID=Europe/Berlin:20270803T200000
DTEND;TZID=Europe/Berlin:20270803T210000
LOCATION:Dorf 12\, 5164 Seeham\, Österreich
GEO:47.968462;13.080425
X-APPLE-STRUCTURED-LOCATION;VALUE=URI;X-ADDRESS=Dorf 12\, 5164 Seeham\, Ös
 terreich;X-APPLE-RADIUS=49;X-TITLE=:geo:47.968462,13.080425
URL;VALUE=URI:https://draft.hey.bayern/events/339827
END:VEVENT
END:VCALENDAR
