BEGIN:VCALENDAR
PRODID:-//eluceo/ical//2.0/EN
VERSION:2.0
CALSCALE:GREGORIAN
BEGIN:VEVENT
UID:hey.bayern.337708.6556771
DTSTAMP:20260423T072631Z
SUMMARY:Mondseer Schnäppchenmarkt
DTSTART;TZID=Europe/Berlin:20260815T100000
DTEND;TZID=Europe/Berlin:20260815T150000
LOCATION:Dr.-Franz-Müller-Str. 3\, 5310 Mondsee am Mondsee\, Österreich
GEO:47.855675;13.349504
X-APPLE-STRUCTURED-LOCATION;VALUE=URI;X-ADDRESS=Dr.-Franz-Müller-Str. 3\, 
 5310 Mondsee am Mondsee\, Österreich;X-APPLE-RADIUS=49;X-TITLE=:geo:47.85
 5675,13.349504
URL;VALUE=URI:https://draft.hey.bayern/events/337708
END:VEVENT
END:VCALENDAR
