BEGIN:VCALENDAR
PRODID:-//eluceo/ical//2.0/EN
VERSION:2.0
CALSCALE:GREGORIAN
BEGIN:VEVENT
UID:hey.bayern.334311.6550455
DTSTAMP:20260421T202038Z
SUMMARY:Frühjahrskonzert der Trachtenkapelle Malta
DTSTART;TZID=Europe/Berlin:20260509T200000
DTEND;TZID=Europe/Berlin:20260509T220000
URL;VALUE=URI:https://draft.hey.bayern/events/334311
END:VEVENT
END:VCALENDAR
