BEGIN:VCALENDAR
PRODID:-//eluceo/ical//2.0/EN
VERSION:2.0
CALSCALE:GREGORIAN
BEGIN:VEVENT
UID:hey.bayern.332802.6556173
DTSTAMP:20260423T105703Z
SUMMARY:Crimetime in Linz - Linzer Kriminalfälle unter der Lupe
DTSTART;TZID=Europe/Berlin:20260521T180000
DTEND;TZID=Europe/Berlin:20260521T235900
LOCATION:Domplatz 3\, 4020 Linz\, Österreich
GEO:48.300336;14.287253
X-APPLE-STRUCTURED-LOCATION;VALUE=URI;X-ADDRESS=Domplatz 3\, 4020 Linz\, Ö
 sterreich;X-APPLE-RADIUS=49;X-TITLE=:geo:48.300336,14.287253
URL;VALUE=URI:https://draft.hey.bayern/events/332802
END:VEVENT
END:VCALENDAR
