BEGIN:VCALENDAR
PRODID:-//eluceo/ical//2.0/EN
VERSION:2.0
CALSCALE:GREGORIAN
BEGIN:VEVENT
UID:hey.bayern.332476.6556166
DTSTAMP:20260423T010234Z
SUMMARY:Brauereiführung
DTSTART;TZID=Europe/Berlin:20260422T140000
DTEND;TZID=Europe/Berlin:20260422T235900
LOCATION:Schlägl 1\, 4160 Aigen-Schlägl\, Österreich
GEO:48.637657;13.970232
X-APPLE-STRUCTURED-LOCATION;VALUE=URI;X-ADDRESS=Schlägl 1\, 4160 Aigen-Sch
 lägl\, Österreich;X-APPLE-RADIUS=49;X-TITLE=:geo:48.637657,13.970232
URL;VALUE=URI:https://draft.hey.bayern/events/332476
END:VEVENT
END:VCALENDAR
