BEGIN:VCALENDAR
PRODID:-//eluceo/ical//2.0/EN
VERSION:2.0
CALSCALE:GREGORIAN
BEGIN:VEVENT
UID:hey.bayern.332129.6373427
DTSTAMP:20260424T114206Z
SUMMARY:Bauernmarkt
DTSTART;TZID=Europe/Berlin:20261107T073000
DTEND;TZID=Europe/Berlin:20261107T113000
URL;VALUE=URI:https://draft.hey.bayern/events/332129
END:VEVENT
END:VCALENDAR
